BEGIN:VCALENDAR
VERSION:2.0
PRODID:-//Marzahner Promenaden-Mischung - ECPv5.14.1//NONSGML v1.0//EN
CALSCALE:GREGORIAN
METHOD:PUBLISH
X-WR-CALNAME:Marzahner Promenaden-Mischung
X-ORIGINAL-URL:https://www.mpm-chor.de
X-WR-CALDESC:Veranstaltungen für Marzahner Promenaden-Mischung
BEGIN:VTIMEZONE
TZID:Europe/Helsinki
BEGIN:DAYLIGHT
TZOFFSETFROM:+0200
TZOFFSETTO:+0300
TZNAME:EEST
DTSTART:20260329T010000
END:DAYLIGHT
BEGIN:STANDARD
TZOFFSETFROM:+0300
TZOFFSETTO:+0200
TZNAME:EET
DTSTART:20261025T010000
END:STANDARD
END:VTIMEZONE
BEGIN:VEVENT
DTSTART;TZID=Europe/Helsinki:20260512T161500
DTEND;TZID=Europe/Helsinki:20260512T163000
DTSTAMP:20260419T211022
CREATED:20260419T140410Z
LAST-MODIFIED:20260419T140410Z
UID:19233-1778602500-1778603400@www.mpm-chor.de
SUMMARY:Peter-Pan-Fest
DESCRIPTION:Lieder vom Programm „Wir sind die Besten!“ in Zusammenarbeit mit dem Hort der Peter-Pan-Schule
URL:https://www.mpm-chor.de/veranstaltung/peter-pan-fest-6/
LOCATION:Schulhof Peter-Pan-Schule\, Landsberger Allee 467\, Berlin\, 12679
END:VEVENT
END:VCALENDAR